BEGIN:VCALENDAR
METHOD:PUBLISH
X-WR-TIMEZONE:America/Denver
PRODID:-//Hold My Ticket.//HMT Web App//EN
CALSCALE:GREGORIAN
METHOD:PUBLISH
X-WR-CALNAME:Through the Flower Art Space
X-WR-CALDESC:Upcoming events at Through the Flower Art Space
BEGIN:VTIMEZONE
TZID:America/Denver 
END:VTIMEZONE
BEGIN:VEVENT
SEQUENCE:2
TRANSP:OPAQUE
UID:ee564ae106b3cea14c554947e5fd7c58
DTSTART:20231118T140000
DTSTAMP:20231012T150840Z
SUMMARY:Human Rights in a Dangerous and Divided World
DESCRIPTION:Panel Discussion with Dr. Michael Nutkiewicz, Independent Scholar, Simon Romero, New York Times Correspondent for Mexico, Central America and the Caribbean, Tarrie Burnett, Executive Director, Tomorrow's Women, and Maryam Ahranjani, Ronald and Susan Friedman Professor of Law at the University of New Mexico School of Law
CREATED:20231012T150840Z
URL;VALUE=URI:http://holdmyticket.com/event/421610 

DTEND:20231118T160000
END:VEVENT
END:VCALENDAR