BEGIN:VCALENDAR
METHOD:PUBLISH
X-WR-TIMEZONE:America/Denver
PRODID:-//Hold My Ticket.//HMT Web App//EN
CALSCALE:GREGORIAN
METHOD:PUBLISH
X-WR-CALNAME:The Oriental Theater
X-WR-CALDESC:Upcoming events at The Oriental Theater
BEGIN:VTIMEZONE
TZID:America/Denver 
END:VTIMEZONE
BEGIN:VEVENT
SEQUENCE:2
TRANSP:OPAQUE
UID:6d3b0425a76c16c4e225ea805bd24c18
DTSTART:20231105T170000
DTSTAMP:20231105T130158Z
SUMMARY:Listen To Your Mother
DESCRIPTION:
CREATED:20231105T130158Z
URL;VALUE=URI:http://holdmyticket.com/event/421928 

DTEND:20231105T190000
END:VEVENT
END:VCALENDAR