BEGIN:VCALENDAR
METHOD:PUBLISH
X-WR-TIMEZONE:America/Denver
PRODID:-//Hold My Ticket.//HMT Web App//EN
CALSCALE:GREGORIAN
METHOD:PUBLISH
X-WR-CALNAME:Hope in the Desert Episcopal Church
X-WR-CALDESC:Upcoming events at Hope in the Desert Episcopal Church
BEGIN:VTIMEZONE
TZID:America/Denver 
END:VTIMEZONE
BEGIN:VEVENT
SEQUENCE:2
TRANSP:OPAQUE
UID:bae41ddd2dd0289a9918429a37e001a0
DTSTART:20240511T180000
DTSTAMP:20240504T131246Z
SUMMARY:Annual New Mexico Bach Society Concert (Albuquerque) POSTPONED DUE TO OUTBREAK OF COVID IN THE NM BACH CHORALE. PLEASE WATCH FOR NEW DATES ON THE NMPAS WEBSITE: nmpas.org
DESCRIPTION:The New Mexico Bach Society presents the complete St. John Passion BWV 245 with soloists, chorus and orchestra. The St. John Passion has not been performed in its entirety in Santa Fe or Albuquerque for over a decade. NMPAS is excited to offer this program to in-person audiences in Santa Fe and Albuquerque, and to live-stream the Santa Fe performance from our Santa Fe venue on Friday evening, May 10, 2024 beginning at 7 pm. Artistic Director Franz Vote, a veteran of the Metropolitan Opera, Bayreuth Wagner Festival, and conductor of the Seattle RING in 2000-2001, among many others, leads the all-professional ensemble. 
CREATED:20240504T131246Z
URL;VALUE=URI:http://holdmyticket.com/event/421945 

DTEND:20240511T210000
END:VEVENT
END:VCALENDAR