BEGIN:VCALENDAR
METHOD:PUBLISH
X-WR-TIMEZONE:America/Denver
PRODID:-//Hold My Ticket.//HMT Web App//EN
CALSCALE:GREGORIAN
METHOD:PUBLISH
X-WR-CALNAME:Clyde Hotel
X-WR-CALDESC:Upcoming events at Clyde Hotel
BEGIN:VTIMEZONE
TZID:America/Denver 
END:VTIMEZONE
BEGIN:VEVENT
SEQUENCE:2
TRANSP:OPAQUE
UID:97a6f382d87328de19a8735aff665750
DTSTART:20231109T190000
DTSTAMP:20231109T153130Z
SUMMARY:Noche De Risa:  Laughter is the Best Medicine
DESCRIPTION:Laughter IS the best medicine... as well as dance! Join us for an evening of comedy and dance for a fundraiser supporting education!  Proceeds from the evening event will benefit the Janet Montoya Schoeppner Memorial Scholarship -- helping to ensure a bilingual future for our New Mexico students! 
CREATED:20231109T153130Z
URL;VALUE=URI:http://holdmyticket.com/event/422027 

DTEND:20231109T210000
END:VEVENT
END:VCALENDAR