BEGIN:VCALENDAR
METHOD:PUBLISH
X-WR-TIMEZONE:America/Denver
PRODID:-//Hold My Ticket.//HMT Web App//EN
CALSCALE:GREGORIAN
METHOD:PUBLISH
X-WR-CALNAME:Tumbleroot Brewery & Distillery
X-WR-CALDESC:Upcoming events at Tumbleroot Brewery & Distillery
BEGIN:VTIMEZONE
TZID:America/Denver 
END:VTIMEZONE
BEGIN:VEVENT
SEQUENCE:2
TRANSP:OPAQUE
UID:23ebd16c26105a89c0a0798b61e013e2
DTSTART:20240208T193000
DTSTAMP:20240124T140016Z
SUMMARY:Robert Jon and The Wreck
DESCRIPTION:Reigning from Southern California, Robert Jon &amp; The Wreck take the Southern rock sound from the east coast and make it their own. Since their inception in 2011, these native Californians--Robert Jon Burrison (lead vocals, guitar), Andrew Espantman (drums, background vocals), Henry James Schneekluth (lead guitar, background vocals), Warren Murrel (bass) and new member Jake Abernathie (keyboards)--have been electrifying audiences all over the world with their soaring guitar leads, rich vocal harmonies, and memorable tunes. Simply put, it is difficult to ignore when these talented musicians take the stage.
CREATED:20240124T140016Z
URL;VALUE=URI:http://holdmyticket.com/event/422155 

DTEND:20240208T233000
END:VEVENT
END:VCALENDAR