BEGIN:VCALENDAR
METHOD:PUBLISH
X-WR-TIMEZONE:America/Chicago
PRODID:-//Hold My Ticket.//HMT Web App//EN
CALSCALE:GREGORIAN
METHOD:PUBLISH
X-WR-CALNAME:Whiskey River Country
X-WR-CALDESC:Upcoming events at Whiskey River Country
BEGIN:VTIMEZONE
TZID:America/Chicago 
END:VTIMEZONE
BEGIN:VEVENT
SEQUENCE:2
TRANSP:OPAQUE
UID:9382195ce41ff1e5434c9f10b5380f68
DTSTART:20231110T210000
DTSTAMP:20231110T100618Z
SUMMARY:CASE HARDIN
DESCRIPTION:
CREATED:20231110T100618Z
URL;VALUE=URI:http://holdmyticket.com/event/422334 

DTEND:20231111T030000
END:VEVENT
END:VCALENDAR