BEGIN:VCALENDAR
METHOD:PUBLISH
X-WR-TIMEZONE:America/Denver
PRODID:-//Hold My Ticket.//HMT Web App//EN
CALSCALE:GREGORIAN
METHOD:PUBLISH
X-WR-CALNAME:EL REY THEATER
X-WR-CALDESC:Upcoming events at EL REY THEATER
BEGIN:VTIMEZONE
TZID:America/Denver 
END:VTIMEZONE
BEGIN:VEVENT
SEQUENCE:2
TRANSP:OPAQUE
UID:c8e985b14c1085a58d2cfd3b398029da
DTSTART:20231110T200000
DTSTAMP:20231110T184844Z
SUMMARY:THAT MEXICAN OT
DESCRIPTION:
CREATED:20231110T184844Z
URL;VALUE=URI:http://holdmyticket.com/event/422523 

DTEND:20231111T000000
END:VEVENT
END:VCALENDAR