BEGIN:VCALENDAR
METHOD:PUBLISH
X-WR-TIMEZONE:America/Chicago
PRODID:-//Hold My Ticket.//HMT Web App//EN
CALSCALE:GREGORIAN
METHOD:PUBLISH
X-WR-CALNAME:Granada Theater
X-WR-CALDESC:Upcoming events at Granada Theater
BEGIN:VTIMEZONE
TZID:America/Chicago 
END:VTIMEZONE
BEGIN:VEVENT
SEQUENCE:2
TRANSP:OPAQUE
UID:5ffee6f97b00fa86b12e9c18a0850f9b
DTSTART:20240317T200000
DTSTAMP:20231011T120238Z
SUMMARY:Dead By April
DESCRIPTION:
CREATED:20231011T120238Z
URL;VALUE=URI:http://holdmyticket.com/event/422695 

DTEND:20240317T230000
END:VEVENT
END:VCALENDAR