BEGIN:VCALENDAR
METHOD:PUBLISH
X-WR-TIMEZONE:America/Denver
PRODID:-//Hold My Ticket.//HMT Web App//EN
CALSCALE:GREGORIAN
METHOD:PUBLISH
X-WR-CALNAME:The Oriental Theater
X-WR-CALDESC:Upcoming events at The Oriental Theater
BEGIN:VTIMEZONE
TZID:America/Denver 
END:VTIMEZONE
BEGIN:VEVENT
SEQUENCE:2
TRANSP:OPAQUE
UID:3965aa4ceac38c08b6112ec57dd88489
DTSTART:20240510T203000
DTSTAMP:20240215T155123Z
SUMMARY:Ekkstacy
DESCRIPTION:
CREATED:20240215T155123Z
URL;VALUE=URI:http://holdmyticket.com/event/422858 

DTEND:20240510T230000
END:VEVENT
END:VCALENDAR