BEGIN:VCALENDAR
METHOD:PUBLISH
X-WR-TIMEZONE:America/Denver
PRODID:-//Hold My Ticket.//HMT Web App//EN
CALSCALE:GREGORIAN
METHOD:PUBLISH
X-WR-CALNAME:The Oriental Theater
X-WR-CALDESC:Upcoming events at The Oriental Theater
BEGIN:VTIMEZONE
TZID:America/Denver 
END:VTIMEZONE
BEGIN:VEVENT
SEQUENCE:2
TRANSP:OPAQUE
UID:90b33cb5827e655ef011934aa00d9684
DTSTART:20231222T200000
DTSTAMP:20231025T110124Z
SUMMARY:Santa's Guitar 
DESCRIPTION:
CREATED:20231025T110124Z
URL;VALUE=URI:http://holdmyticket.com/event/422940 

DTEND:20231222T224500
END:VEVENT
END:VCALENDAR