BEGIN:VCALENDAR
METHOD:PUBLISH
X-WR-TIMEZONE:America/Los_Angeles
PRODID:-//Hold My Ticket.//HMT Web App//EN
CALSCALE:GREGORIAN
METHOD:PUBLISH
X-WR-CALNAME:Winstons
X-WR-CALDESC:Upcoming events at Winstons
BEGIN:VTIMEZONE
TZID:America/Los_Angeles 
END:VTIMEZONE
BEGIN:VEVENT
SEQUENCE:2
TRANSP:OPAQUE
UID:244cdbcda90cf2031ac97708b7c47645
DTSTART:20231118T213000
DTSTAMP:20231115T153533Z
SUMMARY:Rafa Ponde and the Brazilian Reggae Experience with Divina Jasso 
DESCRIPTION:
CREATED:20231115T153533Z
URL;VALUE=URI:http://holdmyticket.com/event/423070 

DTEND:20231119T003000
END:VEVENT
END:VCALENDAR