BEGIN:VCALENDAR
METHOD:PUBLISH
X-WR-TIMEZONE:America/Denver
PRODID:-//Hold My Ticket.//HMT Web App//EN
CALSCALE:GREGORIAN
METHOD:PUBLISH
X-WR-CALNAME:Taos Center for the Arts
X-WR-CALDESC:Upcoming events at Taos Center for the Arts
BEGIN:VTIMEZONE
TZID:America/Denver 
END:VTIMEZONE
BEGIN:VEVENT
SEQUENCE:2
TRANSP:OPAQUE
UID:1d11c33d7cafba707f35f67c7fc32e4c
DTSTART:20240117T193000
DTSTAMP:20231103T142022Z
SUMMARY:Yungchen Lhamo
DESCRIPTION:Imagine a life based on unconditional love. A life filled with compassion, lived in service of others. A life of prayers and offerings and song. Now imagine a voice so unique and beautiful, so utterly compelling, that it brings birds to roost in trees and makes wild animals stop in their tracks and listen. A voice as pure as a singing bowl. A voice with a range that astonishes and a force, a vibration, that uplifts and restores. Then welcome--welcome back--the wonder that is Yungchen Lhamo.
CREATED:20231103T142022Z
URL;VALUE=URI:http://holdmyticket.com/event/423140 

DTEND:20240117T220000
END:VEVENT
END:VCALENDAR