BEGIN:VCALENDAR
METHOD:PUBLISH
X-WR-TIMEZONE:America/Denver
PRODID:-//Hold My Ticket.//HMT Web App//EN
CALSCALE:GREGORIAN
METHOD:PUBLISH
X-WR-CALNAME:St. Francis Auditorium at the New Mexico Museum of Art
X-WR-CALDESC:Upcoming events at St. Francis Auditorium at the New Mexico Museum of Art
BEGIN:VTIMEZONE
TZID:America/Denver 
END:VTIMEZONE
BEGIN:VEVENT
SEQUENCE:2
TRANSP:OPAQUE
UID:f99556cedb26caf3c2016791b9e61165
DTSTART:20240321T193000
DTSTAMP:20240308T181209Z
SUMMARY:Jonathan Richman ft. Tommy Larkins
DESCRIPTION:
CREATED:20240308T181209Z
URL;VALUE=URI:http://holdmyticket.com/event/423422 

DTEND:20240321T233000
END:VEVENT
END:VCALENDAR