BEGIN:VCALENDAR
METHOD:PUBLISH
X-WR-TIMEZONE:America/Denver
PRODID:-//Hold My Ticket.//HMT Web App//EN
CALSCALE:GREGORIAN
METHOD:PUBLISH
X-WR-CALNAME:The Lensic
X-WR-CALDESC:Upcoming events at The Lensic
BEGIN:VTIMEZONE
TZID:America/Denver 
END:VTIMEZONE
BEGIN:VEVENT
SEQUENCE:2
TRANSP:OPAQUE
UID:5ed82998b8e6efa819f3cdaa0a3c0551
DTSTART:20240622T200000
DTSTAMP:20231208T171008Z
SUMMARY:Mr. Joe Jackson Presents: Joe Jackson Solo and The Music of Max Champion
DESCRIPTION:Joe Jackson is launching a new tour with the same band as his last, the successful Four Decade Tour of 2019, and his last album Fool: Graham Maby (Bass, Vocals), Teddy Kumpel (Guitar, Vocals) and Doug Yowell (Drums, Vocals, Electronics). The show will feature both the full band and a "mini-set" of Joe solo. The songs will be drawn from Joe's whole career, including some that haven't been heard live in many years. Watch out also for some surprises, including some completely new material. The tour will take the band to some cities Joe has never been played or hasn't played for a long time.  We are thrilled that New Mexico is part of this tour!
CREATED:20231208T171008Z
URL;VALUE=URI:http://holdmyticket.com/event/424357 

DTEND:20240622T220000
END:VEVENT
END:VCALENDAR