BEGIN:VCALENDAR
METHOD:PUBLISH
X-WR-TIMEZONE:America/Chicago
PRODID:-//Hold My Ticket.//HMT Web App//EN
CALSCALE:GREGORIAN
METHOD:PUBLISH
X-WR-CALNAME:The Railhouse
X-WR-CALDESC:Upcoming events at The Railhouse
BEGIN:VTIMEZONE
TZID:America/Chicago 
END:VTIMEZONE
BEGIN:VEVENT
SEQUENCE:2
TRANSP:OPAQUE
UID:4373298a4d117955829907913e43fcca
DTSTART:20240704T200000
DTSTAMP:20240520T204534Z
SUMMARY:Thursday Throwdowns Featuring Smackola &amp; Friendz
DESCRIPTION:
CREATED:20240520T204534Z
URL;VALUE=URI:http://holdmyticket.com/event/424608 

DTEND:20240705T000000
END:VEVENT
END:VCALENDAR