BEGIN:VCALENDAR
METHOD:PUBLISH
X-WR-TIMEZONE:America/Denver
PRODID:-//Hold My Ticket.//HMT Web App//EN
CALSCALE:GREGORIAN
METHOD:PUBLISH
X-WR-CALNAME:Main Library (Albuquerque)
X-WR-CALDESC:Upcoming events at Main Library (Albuquerque)
BEGIN:VTIMEZONE
TZID:America/Denver 
END:VTIMEZONE
BEGIN:VEVENT
SEQUENCE:2
TRANSP:OPAQUE
UID:0ed48f56834ccc5ef6ad815b117d5874
DTSTART:20240109T190000
DTSTAMP:20240108T151008Z
SUMMARY:A Word With Writers - Michael Cunningham - Sold Out!
DESCRIPTION:We at AMP are avid readers!  When we aren't at a show, we are curled up with a good book.  So we are very excited to be partnering with the new owners of Bookworks to help bring a little more literary action to Albuquerque.  We are kicking things off in January with a reading from Pulitzer Prize winning author Michael Cunningham (The Hours) reading and signing his new book Days, as well as a reading &amp; concert at Bookworks from Santa Fe-based author/singer-songwriter David Berkeley on January 20.  Stay tuned for more literary action in 2024.  Consider visiting Bookworks for your holiday gift shopping, or just some fun book browsing. 
CREATED:20240108T151008Z
URL;VALUE=URI:http://holdmyticket.com/event/424778 

DTEND:20240109T220000
END:VEVENT
END:VCALENDAR