BEGIN:VCALENDAR
METHOD:PUBLISH
X-WR-TIMEZONE:America/Los_Angeles
PRODID:-//Hold My Ticket.//HMT Web App//EN
CALSCALE:GREGORIAN
METHOD:PUBLISH
X-WR-CALNAME:Star Theater
X-WR-CALDESC:Upcoming events at Star Theater
BEGIN:VTIMEZONE
TZID:America/Los_Angeles 
END:VTIMEZONE
BEGIN:VEVENT
SEQUENCE:2
TRANSP:OPAQUE
UID:db189f6cdca507c4e1805ed87b2bb772
DTSTART:20240223T203000
DTSTAMP:20231211T170519Z
SUMMARY:THE OCEAN
DESCRIPTION:21+ / $20 ADV - $25 DOS / 7:30PM DOORS
CREATED:20231211T170519Z
URL;VALUE=URI:http://holdmyticket.com/event/425048 

DTEND:20240224T230000
END:VEVENT
END:VCALENDAR