BEGIN:VCALENDAR
METHOD:PUBLISH
X-WR-TIMEZONE:America/Denver
PRODID:-//Hold My Ticket.//HMT Web App//EN
CALSCALE:GREGORIAN
METHOD:PUBLISH
X-WR-CALNAME:HQ
X-WR-CALDESC:Upcoming events at HQ
BEGIN:VTIMEZONE
TZID:America/Denver 
END:VTIMEZONE
BEGIN:VEVENT
SEQUENCE:2
TRANSP:OPAQUE
UID:0fceed59775f827ee0d002ec5d6c15fc
DTSTART:20240318T193000
DTSTAMP:20231212T114905Z
SUMMARY:The Decibel Tour
DESCRIPTION:
CREATED:20231212T114905Z
URL;VALUE=URI:http://holdmyticket.com/event/425077 

DTEND:20240318T233000
END:VEVENT
END:VCALENDAR