BEGIN:VCALENDAR
METHOD:PUBLISH
X-WR-TIMEZONE:America/Denver
PRODID:-//Hold My Ticket.//HMT Web App//EN
CALSCALE:GREGORIAN
METHOD:PUBLISH
X-WR-CALNAME:Lensic Performing Arts Center 
X-WR-CALDESC:Upcoming events at Lensic Performing Arts Center 
BEGIN:VTIMEZONE
TZID:America/Denver 
END:VTIMEZONE
BEGIN:VEVENT
SEQUENCE:2
TRANSP:OPAQUE
UID:78cd00f0a5782162b27b6ef5f7e2f18f
DTSTART:20240407T193000
DTSTAMP:20240403T150604Z
SUMMARY:Asleep at the Wheel
DESCRIPTION:
CREATED:20240403T150604Z
URL;VALUE=URI:http://holdmyticket.com/event/425337 

DTEND:20240407T230000
END:VEVENT
END:VCALENDAR