BEGIN:VCALENDAR
METHOD:PUBLISH
X-WR-TIMEZONE:America/Chicago
PRODID:-//Hold My Ticket.//HMT Web App//EN
CALSCALE:GREGORIAN
METHOD:PUBLISH
X-WR-CALNAME:The Railhouse
X-WR-CALDESC:Upcoming events at The Railhouse
BEGIN:VTIMEZONE
TZID:America/Chicago 
END:VTIMEZONE
BEGIN:VEVENT
SEQUENCE:2
TRANSP:OPAQUE
UID:29ff66a731c9d482efff157b1dc4484c
DTSTART:20240809T170000
DTSTAMP:20240809T114141Z
SUMMARY:Friday Night Live with DJ 2DQ 
DESCRIPTION:
CREATED:20240809T114141Z
URL;VALUE=URI:http://holdmyticket.com/event/427130 

DTEND:20240810T014500
END:VEVENT
END:VCALENDAR