BEGIN:VCALENDAR
METHOD:PUBLISH
X-WR-TIMEZONE:America/Denver
PRODID:-//Hold My Ticket.//HMT Web App//EN
CALSCALE:GREGORIAN
METHOD:PUBLISH
X-WR-CALNAME:Trailside Saloon 
X-WR-CALDESC:Upcoming events at Trailside Saloon 
BEGIN:VTIMEZONE
TZID:America/Denver 
END:VTIMEZONE
BEGIN:VEVENT
SEQUENCE:2
TRANSP:OPAQUE
UID:c61e57e46bef1850289e050404e662c9
DTSTART:20240217T193000
DTSTAMP:20240115T210828Z
SUMMARY:Rod Wess, Endoterra
DESCRIPTION:Swinging Noose Productions presents: 
Rod Wess, Endoterra, Jawa, Author of Your Downfall

18+ / $10 presale / $12 day of / 7pm 
CREATED:20240115T210828Z
URL;VALUE=URI:http://holdmyticket.com/event/427540 

DTEND:20240218T010000
END:VEVENT
END:VCALENDAR