BEGIN:VCALENDAR
METHOD:PUBLISH
X-WR-TIMEZONE:America/Denver
PRODID:-//Hold My Ticket.//HMT Web App//EN
CALSCALE:GREGORIAN
METHOD:PUBLISH
X-WR-CALNAME:Buffalo Rose
X-WR-CALDESC:Upcoming events at Buffalo Rose
BEGIN:VTIMEZONE
TZID:America/Denver 
END:VTIMEZONE
BEGIN:VEVENT
SEQUENCE:2
TRANSP:OPAQUE
UID:b6f2e1b3a2b34f3015846940f725b072
DTSTART:20240517T193000
DTSTAMP:20240312T164627Z
SUMMARY:Dotsero
DESCRIPTION:
CREATED:20240312T164627Z
URL;VALUE=URI:http://holdmyticket.com/event/427712 

DTEND:20240517T230000
END:VEVENT
END:VCALENDAR