BEGIN:VCALENDAR
METHOD:PUBLISH
X-WR-TIMEZONE:America/Chicago
PRODID:-//Hold My Ticket.//HMT Web App//EN
CALSCALE:GREGORIAN
METHOD:PUBLISH
X-WR-CALNAME:Whiskey River Country
X-WR-CALDESC:Upcoming events at Whiskey River Country
BEGIN:VTIMEZONE
TZID:America/Chicago 
END:VTIMEZONE
BEGIN:VEVENT
SEQUENCE:2
TRANSP:OPAQUE
UID:9fcaec90125df132a6180a373a6b426a
DTSTART:20240302T213000
DTSTAMP:20240302T072737Z
SUMMARY:WYATT PUTMAN
DESCRIPTION:
CREATED:20240302T072737Z
URL;VALUE=URI:http://holdmyticket.com/event/428112 

DTEND:20240303T030000
END:VEVENT
END:VCALENDAR