BEGIN:VCALENDAR
METHOD:PUBLISH
X-WR-TIMEZONE:America/New_York
PRODID:-//Hold My Ticket.//HMT Web App//EN
CALSCALE:GREGORIAN
METHOD:PUBLISH
X-WR-CALNAME:River Street Jazz Cafe
X-WR-CALDESC:Upcoming events at River Street Jazz Cafe
BEGIN:VTIMEZONE
TZID:America/New_York 
END:VTIMEZONE
BEGIN:VEVENT
SEQUENCE:2
TRANSP:OPAQUE
UID:9853fe8e07e547505fa093cad45b149c
DTSTART:20240511T200000
DTSTAMP:20240319T141558Z
SUMMARY:Solar Federation - Tribute to RUSH
DESCRIPTION:
CREATED:20240319T141558Z
URL;VALUE=URI:http://holdmyticket.com/event/428196 

DTEND:20240512T010000
END:VEVENT
END:VCALENDAR