BEGIN:VCALENDAR
METHOD:PUBLISH
X-WR-TIMEZONE:America/Denver
PRODID:-//Hold My Ticket.//HMT Web App//EN
CALSCALE:GREGORIAN
METHOD:PUBLISH
X-WR-CALNAME:Outpost Performance Space
X-WR-CALDESC:Upcoming events at Outpost Performance Space
BEGIN:VTIMEZONE
TZID:America/Denver 
END:VTIMEZONE
BEGIN:VEVENT
SEQUENCE:2
TRANSP:OPAQUE
UID:11b7608502d3eeda2c8a3c59d0aac520
DTSTART:20240512T193000
DTSTAMP:20240422T004805Z
SUMMARY:Kiran Ahluwalia
DESCRIPTION:Two-time JUNO (Canadian Grammy) winner Kiran Ahluwalia's open-hearted vocals have established her as one of global music's most compelling cross-pollinators. Her six-piece band is led by ace guitarist Rez Abbasi, whose accolades include the Guggenheim Fellowship and frequent appearances on the Top Ten Guitarists of Downbeat's International Critics Poll. Kiran and Rez are a real-life couple, one born in India, the other in Pakistan. Having grown up in the Diaspora, they crossed ethnic and religious lines between their two warring motherlands to forge a musical and life partnership.
CREATED:20240422T004805Z
URL;VALUE=URI:http://holdmyticket.com/event/428497 

DTEND:20240512T220000
END:VEVENT
END:VCALENDAR