BEGIN:VCALENDAR
METHOD:PUBLISH
X-WR-TIMEZONE:America/Denver
PRODID:-//Hold My Ticket.//HMT Web App//EN
CALSCALE:GREGORIAN
METHOD:PUBLISH
X-WR-CALNAME:The Oriental Theater
X-WR-CALDESC:Upcoming events at The Oriental Theater
BEGIN:VTIMEZONE
TZID:America/Denver 
END:VTIMEZONE
BEGIN:VEVENT
SEQUENCE:2
TRANSP:OPAQUE
UID:ec458a455d661873a50f17dd1a87a350
DTSTART:20241206T200000
DTSTAMP:20241203T235330Z
SUMMARY:Hell's Belles
DESCRIPTION:
CREATED:20241203T235330Z
URL;VALUE=URI:http://holdmyticket.com/event/428504 

DTEND:20241206T223000
END:VEVENT
END:VCALENDAR