BEGIN:VCALENDAR
METHOD:PUBLISH
X-WR-TIMEZONE:America/New_York
PRODID:-//Hold My Ticket.//HMT Web App//EN
CALSCALE:GREGORIAN
METHOD:PUBLISH
X-WR-CALNAME:Terra Fermata
X-WR-CALDESC:Upcoming events at Terra Fermata
BEGIN:VTIMEZONE
TZID:America/New_York 
END:VTIMEZONE
BEGIN:VEVENT
SEQUENCE:2
TRANSP:OPAQUE
UID:187b370b93e514636b5ed19dede30622
DTSTART:20240228T190000
DTSTAMP:20240226T194904Z
SUMMARY:CIRCUS MUTT
DESCRIPTION:Tickets $5. Originally formed in 2010, in the Blue Ridge Mountains near Asheville, NC, Circus Mutt draws from a spectrum of musical influences including rock-n-roll, jazz and bluegrass. The band cut their teeth on the road, touring literally non-stop from 2011-2016. Breweries, festivals, bars and thousands of miles of highway have been the proving ground for this group of blue-collar musicians. Circus Mutt has woven a unique blend of American sounds on their new studio album, "Old Dogs &amp; New Tricks." Live Mutt performances vary from solo/duo shows, to full-blown, 6 piece band extravaganzas. They are known for their gentlemanly manners and the good natured tail-waggin' that comes naturally to every friendly mutt you know. Wherever they are, it is sure to be a circus and you are surely welcome. For booking info, or to join our mailing list, email us at circusmuttband@gmail.com
CREATED:20240226T194904Z
URL;VALUE=URI:http://holdmyticket.com/event/428675 

DTEND:20240228T220000
END:VEVENT
END:VCALENDAR