BEGIN:VCALENDAR
METHOD:PUBLISH
X-WR-TIMEZONE:America/New_York
PRODID:-//Hold My Ticket.//HMT Web App//EN
CALSCALE:GREGORIAN
METHOD:PUBLISH
X-WR-CALNAME:Terra Fermata
X-WR-CALDESC:Upcoming events at Terra Fermata
BEGIN:VTIMEZONE
TZID:America/New_York 
END:VTIMEZONE
BEGIN:VEVENT
SEQUENCE:2
TRANSP:OPAQUE
UID:99879a28a16ed8e501556868be874804
DTSTART:20240525T193000
DTSTAMP:20240506T115952Z
SUMMARY:BROTHERS AFTER ALL
DESCRIPTION:Tickets $15 Advance + s/c - Allman Brothers Tribute
CREATED:20240506T115952Z
URL;VALUE=URI:http://holdmyticket.com/event/428687 

DTEND:20240525T220000
END:VEVENT
END:VCALENDAR