BEGIN:VCALENDAR
METHOD:PUBLISH
X-WR-TIMEZONE:America/Los_Angeles
PRODID:-//Hold My Ticket.//HMT Web App//EN
CALSCALE:GREGORIAN
METHOD:PUBLISH
X-WR-CALNAME:The Big Dipper
X-WR-CALDESC:Upcoming events at The Big Dipper
BEGIN:VTIMEZONE
TZID:America/Los_Angeles 
END:VTIMEZONE
BEGIN:VEVENT
SEQUENCE:2
TRANSP:OPAQUE
UID:7a7283ff0a415c593db414cf2e2ef26e
DTSTART:20240229T193000
DTSTAMP:20240228T171755Z
SUMMARY:He Films The Clouds
DESCRIPTION:
CREATED:20240228T171755Z
URL;VALUE=URI:http://holdmyticket.com/event/428731 

DTEND:20240229T223000
END:VEVENT
END:VCALENDAR