BEGIN:VCALENDAR
METHOD:PUBLISH
X-WR-TIMEZONE:America/Denver
PRODID:-//Hold My Ticket.//HMT Web App//EN
CALSCALE:GREGORIAN
METHOD:PUBLISH
X-WR-CALNAME:FUSION | 708
X-WR-CALDESC:Upcoming events at FUSION | 708
BEGIN:VTIMEZONE
TZID:America/Denver 
END:VTIMEZONE
BEGIN:VEVENT
SEQUENCE:2
TRANSP:OPAQUE
UID:13e4ba428ca11caba90596196e5e3a43
DTSTART:20240417T193000
DTSTAMP:20240212T040024Z
SUMMARY:Damn Tall Buildings
DESCRIPTION:Witty &amp; engaging, Damn Tall Buildings' energizing music finds beauty and glory in the mundane workaday struggle of everyday life: time keeps passing and the seasons come and go, you scroll too much, you smoke too much, you lose yourself, only to sit with yourself &amp; find yourself again, you laugh with your friends, and you look out the window &amp; dream about what else might be out there. It all keeps coming around. You carry on, intent on flourishing and thriving. This is what Damn Tall Buildings sings about, what they seek to share with their audience.
CREATED:20240212T040024Z
URL;VALUE=URI:http://holdmyticket.com/event/428772 

DTEND:20240417T213000
END:VEVENT
END:VCALENDAR