BEGIN:VCALENDAR
METHOD:PUBLISH
X-WR-TIMEZONE:America/Los_Angeles
PRODID:-//Hold My Ticket.//HMT Web App//EN
CALSCALE:GREGORIAN
METHOD:PUBLISH
X-WR-CALNAME:Winstons
X-WR-CALDESC:Upcoming events at Winstons
BEGIN:VTIMEZONE
TZID:America/Los_Angeles 
END:VTIMEZONE
BEGIN:VEVENT
SEQUENCE:2
TRANSP:OPAQUE
UID:8501ba59b9e36b37576de940243d3ce7
DTSTART:20240510T210000
DTSTAMP:20240510T183103Z
SUMMARY:Ballyhoo!  with Joint Operation and Cloud9 Vibes
DESCRIPTION:
CREATED:20240510T183103Z
URL;VALUE=URI:http://holdmyticket.com/event/428969 

DTEND:20240511T000000
END:VEVENT
END:VCALENDAR