BEGIN:VCALENDAR
METHOD:PUBLISH
X-WR-TIMEZONE:America/Denver
PRODID:-//Hold My Ticket.//HMT Web App//EN
CALSCALE:GREGORIAN
METHOD:PUBLISH
X-WR-CALNAME:Central & Unser Library
X-WR-CALDESC:Upcoming events at Central & Unser Library
BEGIN:VTIMEZONE
TZID:America/Denver 
END:VTIMEZONE
BEGIN:VEVENT
SEQUENCE:2
TRANSP:OPAQUE
UID:2f964901bdcd9b069177c8b99c5132cf
DTSTART:20240724T170000
DTSTAMP:20240229T084340Z
SUMMARY:Lara Manzanares
DESCRIPTION:Lara Manzanares is an award-winning bilingual singer-songwriter of Northern New Mexican heritage. In addition to singing the Mexican boleros, rancheras, and corridos of her sheep-ranching childhood, Lara also composes her own style of music in both English and Spanish. Through a combination of storytelling and songs both playful and sincere, Lara draws on her rural New Mexican roots and her urban experiences across the U.S. and abroad as she sings about love, loss, a sense of place, and her own connection to the land.
CREATED:20240229T084340Z
URL;VALUE=URI:http://holdmyticket.com/event/429013 

DTEND:20240724T180000
END:VEVENT
END:VCALENDAR