BEGIN:VCALENDAR
METHOD:PUBLISH
X-WR-TIMEZONE:America/Denver
PRODID:-//Hold My Ticket.//HMT Web App//EN
CALSCALE:GREGORIAN
METHOD:PUBLISH
X-WR-CALNAME:Buffalo Rose
X-WR-CALDESC:Upcoming events at Buffalo Rose
BEGIN:VTIMEZONE
TZID:America/Denver 
END:VTIMEZONE
BEGIN:VEVENT
SEQUENCE:2
TRANSP:OPAQUE
UID:f6eb2e3d151cfabe8282e7885e34d4fb
DTSTART:20241228T190000
DTSTAMP:20241226T191915Z
SUMMARY:Quiet Riot
DESCRIPTION:
CREATED:20241226T191915Z
URL;VALUE=URI:http://holdmyticket.com/event/429169 

DTEND:20241228T230000
END:VEVENT
END:VCALENDAR