BEGIN:VCALENDAR
METHOD:PUBLISH
X-WR-TIMEZONE:America/Los_Angeles
PRODID:-//Hold My Ticket.//HMT Web App//EN
CALSCALE:GREGORIAN
METHOD:PUBLISH
X-WR-CALNAME:Dante's
X-WR-CALDESC:Upcoming events at Dante's
BEGIN:VTIMEZONE
TZID:America/Los_Angeles 
END:VTIMEZONE
BEGIN:VEVENT
SEQUENCE:2
TRANSP:OPAQUE
UID:c47225237a2f5f2119e8c1dab6d88bf8
DTSTART:20240413T203000
DTSTAMP:20240330T124542Z
SUMMARY:DEAD BARS
DESCRIPTION:21+ / $15 ADV - $18 DOS / 7:30PM DOORS
CREATED:20240330T124542Z
URL;VALUE=URI:http://holdmyticket.com/event/429340 

DTEND:20240413T233000
END:VEVENT
END:VCALENDAR