BEGIN:VCALENDAR
METHOD:PUBLISH
X-WR-TIMEZONE:America/Shiprock
PRODID:-//Hold My Ticket.//HMT Web App//EN
CALSCALE:GREGORIAN
METHOD:PUBLISH
X-WR-CALNAME:Kit Carson Park
X-WR-CALDESC:Upcoming events at Kit Carson Park
BEGIN:VTIMEZONE
TZID:America/Shiprock 
END:VTIMEZONE
BEGIN:VEVENT
SEQUENCE:2
TRANSP:OPAQUE
UID:0867a98b4bb86a04d52c0e4348b9b0ab
DTSTART:20240831T120000
DTSTAMP:20240829T205518Z
SUMMARY:Andrea Magee's She Rises
DESCRIPTION:Experience the joy of music while celebrating the achievements of incredible women at Andrea Magee's "She Rises!" A percentage of all ticket sales will support the inspiring work of "Music Helps," a nonprofit organization that uses music for positive change.
CREATED:20240829T205518Z
URL;VALUE=URI:http://holdmyticket.com/event/429905 

DTEND:20240831T220000
END:VEVENT
END:VCALENDAR