BEGIN:VCALENDAR
METHOD:PUBLISH
X-WR-TIMEZONE:America/New_York
PRODID:-//Hold My Ticket.//HMT Web App//EN
CALSCALE:GREGORIAN
METHOD:PUBLISH
X-WR-CALNAME:Thirsty Cowboy
X-WR-CALDESC:Upcoming events at Thirsty Cowboy
BEGIN:VTIMEZONE
TZID:America/New_York 
END:VTIMEZONE
BEGIN:VEVENT
SEQUENCE:2
TRANSP:OPAQUE
UID:69b84ae7766c5beb433e42520201605e
DTSTART:20240417T193000
DTSTAMP:20240325T192927Z
SUMMARY:LINE DANCE LESSONS WITH PATTI
DESCRIPTION:
CREATED:20240325T192927Z
URL;VALUE=URI:http://holdmyticket.com/event/429967 

DTEND:20240418T000000
END:VEVENT
END:VCALENDAR