BEGIN:VCALENDAR
METHOD:PUBLISH
X-WR-TIMEZONE:America/Denver
PRODID:-//Hold My Ticket.//HMT Web App//EN
CALSCALE:GREGORIAN
METHOD:PUBLISH
X-WR-CALNAME:KiMo Theatre
X-WR-CALDESC:Upcoming events at KiMo Theatre
BEGIN:VTIMEZONE
TZID:America/Denver 
END:VTIMEZONE
BEGIN:VEVENT
SEQUENCE:2
TRANSP:OPAQUE
UID:cccad21253fabdeb19428803bb6a6609
DTSTART:20240807T193000
DTSTAMP:20240521T144604Z
SUMMARY:Bruce Hornsby & The Noisemakers
DESCRIPTION:
CREATED:20240521T144604Z
URL;VALUE=URI:http://holdmyticket.com/event/430015 

DTEND:20240807T220000
END:VEVENT
END:VCALENDAR