BEGIN:VCALENDAR
METHOD:PUBLISH
X-WR-TIMEZONE:America/Denver
PRODID:-//Hold My Ticket.//HMT Web App//EN
CALSCALE:GREGORIAN
METHOD:PUBLISH
X-WR-CALNAME:The Oriental Theater
X-WR-CALDESC:Upcoming events at The Oriental Theater
BEGIN:VTIMEZONE
TZID:America/Denver 
END:VTIMEZONE
BEGIN:VEVENT
SEQUENCE:2
TRANSP:OPAQUE
UID:a7e3229ec05e1cac646be3802e4fa8d2
DTSTART:20240403T190000
DTSTAMP:20240305T153641Z
SUMMARY:National Paddling Film Festival 
DESCRIPTION:
CREATED:20240305T153641Z
URL;VALUE=URI:http://holdmyticket.com/event/430062 

DTEND:20240403T220000
END:VEVENT
END:VCALENDAR