BEGIN:VCALENDAR
METHOD:PUBLISH
X-WR-TIMEZONE:America/Los_Angeles
PRODID:-//Hold My Ticket.//HMT Web App//EN
CALSCALE:GREGORIAN
METHOD:PUBLISH
X-WR-CALNAME:The Big Dipper
X-WR-CALDESC:Upcoming events at The Big Dipper
BEGIN:VTIMEZONE
TZID:America/Los_Angeles 
END:VTIMEZONE
BEGIN:VEVENT
SEQUENCE:2
TRANSP:OPAQUE
UID:81a8d7bfb0087eb46a7f20fe39340cb2
DTSTART:20240502T193000
DTSTAMP:20240501T184701Z
SUMMARY:CD Ghost
DESCRIPTION:
CREATED:20240501T184701Z
URL;VALUE=URI:http://holdmyticket.com/event/430374 

DTEND:20240502T223000
END:VEVENT
END:VCALENDAR