BEGIN:VCALENDAR
METHOD:PUBLISH
X-WR-TIMEZONE:America/Denver
PRODID:-//Hold My Ticket.//HMT Web App//EN
CALSCALE:GREGORIAN
METHOD:PUBLISH
X-WR-CALNAME:The Box Performance Space
X-WR-CALDESC:Upcoming events at The Box Performance Space
BEGIN:VTIMEZONE
TZID:America/Denver 
END:VTIMEZONE
BEGIN:VEVENT
SEQUENCE:2
TRANSP:OPAQUE
UID:28ee345a92d326f0465cfe6b92149741
DTSTART:20240628T210000
DTSTAMP:20240308T131930Z
SUMMARY:THE SHOW 
DESCRIPTION:
CREATED:20240308T131930Z
URL;VALUE=URI:http://holdmyticket.com/event/430469 

DTEND:20240628T220000
END:VEVENT
END:VCALENDAR