BEGIN:VCALENDAR
METHOD:PUBLISH
X-WR-TIMEZONE:America/Denver
PRODID:-//Hold My Ticket.//HMT Web App//EN
CALSCALE:GREGORIAN
METHOD:PUBLISH
X-WR-CALNAME:Tony Hillerman Library
X-WR-CALDESC:Upcoming events at Tony Hillerman Library
BEGIN:VTIMEZONE
TZID:America/Denver 
END:VTIMEZONE
BEGIN:VEVENT
SEQUENCE:2
TRANSP:OPAQUE
UID:3f4f01d0958f613892c7f262ef8cbc9b
DTSTART:20240717T160000
DTSTAMP:20240715T210829Z
SUMMARY:Felix Y Los Gatos
DESCRIPTION:Felix Y Los Gatos is a New Mexico power trio that seamlessly merges blues and Cumbia influences. Led by Felix, who impressively handles vocals, harmonica, guitar, and the button accordion, the band explores their Chicano and Native American roots. With a small percussion set that can fit in any small room or big room and standup bass touring bringing danceable blues mixed with Cumbia creating an enthralling sound with rhythms ranging from South America to New Orleans, including elements of Zydeco.
CREATED:20240715T210829Z
URL;VALUE=URI:http://holdmyticket.com/event/430493 

DTEND:20240717T170000
END:VEVENT
END:VCALENDAR