BEGIN:VCALENDAR
METHOD:PUBLISH
X-WR-TIMEZONE:America/Chicago
PRODID:-//Hold My Ticket.//HMT Web App//EN
CALSCALE:GREGORIAN
METHOD:PUBLISH
X-WR-CALNAME:Whiskey River Country
X-WR-CALDESC:Upcoming events at Whiskey River Country
BEGIN:VTIMEZONE
TZID:America/Chicago 
END:VTIMEZONE
BEGIN:VEVENT
SEQUENCE:2
TRANSP:OPAQUE
UID:5ccd2d70757164aec57e175359c640f4
DTSTART:20240316T213000
DTSTAMP:20240311T074420Z
SUMMARY:LANE BRICKER
DESCRIPTION:
CREATED:20240311T074420Z
URL;VALUE=URI:http://holdmyticket.com/event/430533 

DTEND:20240317T030000
END:VEVENT
END:VCALENDAR