BEGIN:VCALENDAR
METHOD:PUBLISH
X-WR-TIMEZONE:America/Denver
PRODID:-//Hold My Ticket.//HMT Web App//EN
CALSCALE:GREGORIAN
METHOD:PUBLISH
X-WR-CALNAME:Tumbleroot Brewery & Distillery
X-WR-CALDESC:Upcoming events at Tumbleroot Brewery & Distillery
BEGIN:VTIMEZONE
TZID:America/Denver 
END:VTIMEZONE
BEGIN:VEVENT
SEQUENCE:2
TRANSP:OPAQUE
UID:0617d48b40e9fdc5f79cfca22302242d
DTSTART:20240608T193000
DTSTAMP:20240524T132340Z
SUMMARY:Jesse Dayton
DESCRIPTION:Jesse Dayton isn't just an unsung hero of modern-day American music; he's a towering figure in the realm of Outlaw Country, a master storyteller who effortlessly blurs the boundaries between genres and disciplines. With a career spanning multiple decades, Dayton has left an indelible mark as a chart-topping songwriter, guitar virtuoso, author, frontman, sideman, producer, and relentless road warrior. From his early days with the Road Kings, where he fearlessly melded Texas Rockabilly and Country with the raw energy of Punk Rock, Dayton has been a trailblazer. 
CREATED:20240524T132340Z
URL;VALUE=URI:http://holdmyticket.com/event/430866 

DTEND:20240608T233000
END:VEVENT
END:VCALENDAR