BEGIN:VCALENDAR
METHOD:PUBLISH
X-WR-TIMEZONE:America/Denver
PRODID:-//Hold My Ticket.//HMT Web App//EN
CALSCALE:GREGORIAN
METHOD:PUBLISH
X-WR-CALNAME:The Box Performance Space
X-WR-CALDESC:Upcoming events at The Box Performance Space
BEGIN:VTIMEZONE
TZID:America/Denver 
END:VTIMEZONE
BEGIN:VEVENT
SEQUENCE:2
TRANSP:OPAQUE
UID:00021c39badc6adc5244379a139926a8
DTSTART:20240427T221500
DTSTAMP:20240320T164711Z
SUMMARY:The Hive
DESCRIPTION:
CREATED:20240320T164711Z
URL;VALUE=URI:http://holdmyticket.com/event/431056 

DTEND:20240427T231500
END:VEVENT
END:VCALENDAR