BEGIN:VCALENDAR
METHOD:PUBLISH
X-WR-TIMEZONE:America/Los_Angeles
PRODID:-//Hold My Ticket.//HMT Web App//EN
CALSCALE:GREGORIAN
METHOD:PUBLISH
X-WR-CALNAME:Winstons
X-WR-CALDESC:Upcoming events at Winstons
BEGIN:VTIMEZONE
TZID:America/Los_Angeles 
END:VTIMEZONE
BEGIN:VEVENT
SEQUENCE:2
TRANSP:OPAQUE
UID:dcecc19db2c9e64607361da3ed68450f
DTSTART:20240516T203000
DTSTAMP:20240516T195249Z
SUMMARY: Ras-1 and The Tones with T-Chronic 
DESCRIPTION:
CREATED:20240516T195249Z
URL;VALUE=URI:http://holdmyticket.com/event/431076 

DTEND:20240516T233000
END:VEVENT
END:VCALENDAR