BEGIN:VCALENDAR
METHOD:PUBLISH
X-WR-TIMEZONE:America/Denver
PRODID:-//Hold My Ticket.//HMT Web App//EN
CALSCALE:GREGORIAN
METHOD:PUBLISH
X-WR-CALNAME:The Box Performance Space
X-WR-CALDESC:Upcoming events at The Box Performance Space
BEGIN:VTIMEZONE
TZID:America/Denver 
END:VTIMEZONE
BEGIN:VEVENT
SEQUENCE:2
TRANSP:OPAQUE
UID:2f68756c6172cc1a9869dde9859d6163
DTSTART:20240426T190000
DTSTAMP:20240415T115014Z
SUMMARY:The Doodles: TV Guide
DESCRIPTION:
CREATED:20240415T115014Z
URL;VALUE=URI:http://holdmyticket.com/event/431090 

DTEND:20240426T200000
END:VEVENT
END:VCALENDAR