BEGIN:VCALENDAR
METHOD:PUBLISH
X-WR-TIMEZONE:America/Denver
PRODID:-//Hold My Ticket.//HMT Web App//EN
CALSCALE:GREGORIAN
METHOD:PUBLISH
X-WR-CALNAME:San Miguel Chapel
X-WR-CALDESC:Upcoming events at San Miguel Chapel
BEGIN:VTIMEZONE
TZID:America/Denver 
END:VTIMEZONE
BEGIN:VEVENT
SEQUENCE:2
TRANSP:OPAQUE
UID:88dc2fed52edc164c47f8dc785332806
DTSTART:20240601T193000
DTSTAMP:20240514T002710Z
SUMMARY:Eliza Gilkyson - SOLD OUT!
DESCRIPTION:Eliza Gilkyson is a twice Grammy-nominated (2006/2015) singer-songwriter and activist who is one of the most respected musicians in Folk, Roots and Americana circles. Her songs have been covered by Joan Baez, Bob Geldof, Tom Rush, and Rosanne Cash, and have appeared in films, PBS specials, and on prime-time network TV shows. A member of the Austin Music Hall of Fame, and an inductee into the Austin Songwriter Hall of Fame, she has won countless Folk Alliance and Austin Music aAwards, including 2014's Songwriter of the Year.
CREATED:20240514T002710Z
URL;VALUE=URI:http://holdmyticket.com/event/431258 

DTEND:20240601T213000
END:VEVENT
END:VCALENDAR