BEGIN:VCALENDAR
METHOD:PUBLISH
X-WR-TIMEZONE:America/Denver
PRODID:-//Hold My Ticket.//HMT Web App//EN
CALSCALE:GREGORIAN
METHOD:PUBLISH
X-WR-CALNAME:Quezada's Comedy Club & Cantina
X-WR-CALDESC:Upcoming events at Quezada's Comedy Club & Cantina
BEGIN:VTIMEZONE
TZID:America/Denver 
END:VTIMEZONE
BEGIN:VEVENT
SEQUENCE:2
TRANSP:OPAQUE
UID:af9f09553d10d63dbae6073b050ba3a7
DTSTART:20241025T190000
DTSTAMP:20240709T103039Z
SUMMARY:Alfred Robles
DESCRIPTION:
CREATED:20240709T103039Z
URL;VALUE=URI:http://holdmyticket.com/event/431259 

DTEND:20241025T203000
END:VEVENT
END:VCALENDAR