BEGIN:VCALENDAR
METHOD:PUBLISH
X-WR-TIMEZONE:America/Los_Angeles
PRODID:-//Hold My Ticket.//HMT Web App//EN
CALSCALE:GREGORIAN
METHOD:PUBLISH
X-WR-CALNAME:Winstons
X-WR-CALDESC:Upcoming events at Winstons
BEGIN:VTIMEZONE
TZID:America/Los_Angeles 
END:VTIMEZONE
BEGIN:VEVENT
SEQUENCE:2
TRANSP:OPAQUE
UID:fc1b31e171a0681c651aefdad716b054
DTSTART:20240504T210000
DTSTAMP:20240501T161009Z
SUMMARY:"May the Fourth Be with You Party" w/ The Swedish Models, Davis, Rey Wolf, Daniel Enzo and DJ Sets by Lou Niles
DESCRIPTION:
CREATED:20240501T161009Z
URL;VALUE=URI:http://holdmyticket.com/event/431788 

DTEND:20240505T003000
END:VEVENT
END:VCALENDAR