BEGIN:VCALENDAR
METHOD:PUBLISH
X-WR-TIMEZONE:America/Denver
PRODID:-//Hold My Ticket.//HMT Web App//EN
CALSCALE:GREGORIAN
METHOD:PUBLISH
X-WR-CALNAME:Tumbleroot Brewery and Distillery
X-WR-CALDESC:Upcoming events at Tumbleroot Brewery and Distillery
BEGIN:VTIMEZONE
TZID:America/Denver 
END:VTIMEZONE
BEGIN:VEVENT
SEQUENCE:2
TRANSP:OPAQUE
UID:2efe0e4f61104e8a25fe2929fdbe3b6c
DTSTART:20240618T193000
DTSTAMP:20240419T001737Z
SUMMARY:DEAD REGISTER
DESCRIPTION:The cure for those who crave dark, tortured intimacy administered through gut-pulverizing sonic heft.
CREATED:20240419T001737Z
URL;VALUE=URI:http://holdmyticket.com/event/432602 

DTEND:20240618T230000
END:VEVENT
END:VCALENDAR